BEGIN:VCALENDAR
VERSION:2.0
PRODID:-//Dipharma - ECPv6.6.0.1//NONSGML v1.0//EN
CALSCALE:GREGORIAN
METHOD:PUBLISH
X-WR-CALNAME:Dipharma
X-ORIGINAL-URL:http://www.dipharma.com
X-WR-CALDESC:Events for Dipharma
REFRESH-INTERVAL;VALUE=DURATION:PT1H
X-Robots-Tag:noindex
X-PUBLISHED-TTL:PT1H
BEGIN:VTIMEZONE
TZID:Asia/Tokyo
BEGIN:STANDARD
TZOFFSETFROM:+0900
TZOFFSETTO:+0900
TZNAME:JST
DTSTART:20230101T000000
END:STANDARD
END:VTIMEZONE
BEGIN:VEVENT
DTSTART;VALUE=DATE:20230419
DTEND;VALUE=DATE:20230422
DTSTAMP:20260421T143415
CREATED:20230303T112039Z
LAST-MODIFIED:20230303T115457Z
UID:3617-1681862400-1682121599@www.dipharma.com
SUMMARY:CPHI Japan 2023
DESCRIPTION:Location: Tokyo Big Sight\, Tokyo\, Japan \nDipharma Group team will be exhibiting at CPHI Japan 2023\, Italia Pavilion\, booth IP-05. \nTo book a meeting\, please contact us at japan@dipharma.com \nFo more information\, follow the link: https://www.cphi.com/japan/en/home.html
URL:http://www.dipharma.com/event/cphi-japan-2023/
LOCATION:Japan\, Tokyo\, Japan
CATEGORIES:Event
END:VEVENT
END:VCALENDAR