BEGIN:VCALENDAR
VERSION:2.0
PRODID:-//Dipharma - ECPv6.6.0.1//NONSGML v1.0//EN
CALSCALE:GREGORIAN
METHOD:PUBLISH
X-WR-CALNAME:Dipharma
X-ORIGINAL-URL:http://www.dipharma.com
X-WR-CALDESC:Events for Dipharma
REFRESH-INTERVAL;VALUE=DURATION:PT1H
X-Robots-Tag:noindex
X-PUBLISHED-TTL:PT1H
BEGIN:VTIMEZONE
TZID:America/New_York
BEGIN:DAYLIGHT
TZOFFSETFROM:-0500
TZOFFSETTO:-0400
TZNAME:EDT
DTSTART:20250309T070000
END:DAYLIGHT
BEGIN:STANDARD
TZOFFSETFROM:-0400
TZOFFSETTO:-0500
TZNAME:EST
DTSTART:20251102T060000
END:STANDARD
END:VTIMEZONE
BEGIN:VEVENT
DTSTART;VALUE=DATE:20250520
DTEND;VALUE=DATE:20250523
DTSTAMP:20260419T195832
CREATED:20250212T112025Z
LAST-MODIFIED:20250212T112025Z
UID:4445-1747699200-1747958399@www.dipharma.com
SUMMARY:CPHI North America 2025
DESCRIPTION:Location: Philadelphia\, PA\, USA Pennsylvania Convention Center \nDipharma Group team will be exhibiting at CPHI North America 2025\, from May 20-22\, booth #1200. \nTo book a meeting\, please contact us at northamerica@dipharma.com \nFor more information\, follow the link: https://www.cphi.com/northamerica/en/home.html
URL:http://www.dipharma.com/event/cphi-north-america-2025/
LOCATION:Philadelphia\, Philadelphia\, PA\, United States
CATEGORIES:Event
END:VEVENT
END:VCALENDAR