BEGIN:VCALENDAR
VERSION:2.0
PRODID:-//Dipharma - ECPv6.6.0.1//NONSGML v1.0//EN
CALSCALE:GREGORIAN
METHOD:PUBLISH
X-WR-CALNAME:Dipharma
X-ORIGINAL-URL:http://www.dipharma.com
X-WR-CALDESC:Events for Dipharma
REFRESH-INTERVAL;VALUE=DURATION:PT1H
X-Robots-Tag:noindex
X-PUBLISHED-TTL:PT1H
BEGIN:VTIMEZONE
TZID:UTC
BEGIN:STANDARD
TZOFFSETFROM:+0000
TZOFFSETTO:+0000
TZNAME:UTC
DTSTART:20210101T000000
END:STANDARD
END:VTIMEZONE
BEGIN:VEVENT
DTSTART;VALUE=DATE:20211109
DTEND;VALUE=DATE:20211112
DTSTAMP:20260422T224519
CREATED:20210914T093139Z
LAST-MODIFIED:20211015T091807Z
UID:2773-1636416000-1636675199@www.dipharma.com
SUMMARY:CPHI Worlwide 2021
DESCRIPTION:Location: Rho-Fiera\, Milan\, Italy \nDipharma Group team will be exhibiting at CPHI Worldwide 2021\, booth #14G73.  \nWe are excited to see everybody again in person! To book a meeting with us\, please fill in the form Contact Us here below \nFor more information\, follow the link: https://www.cphi.com/europe/en/home.html
URL:http://www.dipharma.com/event/cphi-worlwide-2021/
LOCATION:Milan (Italy)\, Milan\, Italia
CATEGORIES:Event
END:VEVENT
BEGIN:VEVENT
DTSTART;VALUE=DATE:20210810
DTEND;VALUE=DATE:20210813
DTSTAMP:20260422T224519
CREATED:20201021T195227Z
LAST-MODIFIED:20210729T160521Z
UID:273-1628553600-1628812799@www.dipharma.com
SUMMARY:CPHI North America 2021
DESCRIPTION:Location: Philadelphia\, PA\, USA Pennsylvania Convention Center \nDipharma Group team will be exhibiting at CPHI North America 2021\, booth #1522.\nTo book a meeting\, please contact us at northamerica@dipharmainc.com  \nFor more information\, follow the link: https://www.cphi.com/northamerica/en/home.html
URL:http://www.dipharma.com/event/cphi-north-america-2021/
LOCATION:Philadelphia\, Philadelphia\, PA\, United States
CATEGORIES:Event
END:VEVENT
BEGIN:VEVENT
DTSTART;VALUE=DATE:20210628
DTEND;VALUE=DATE:20210703
DTSTAMP:20260422T224519
CREATED:20210622T165057Z
LAST-MODIFIED:20210622T165207Z
UID:2638-1624838400-1625270399@www.dipharma.com
SUMMARY:BOS R&D Outsourcing 2021
DESCRIPTION:Dipharma Group will be sponsoring the virtual BOS R&D Outsourcing 2021\, to be held from 28th June to 2nd July 2021. \nThe event will connect pharmaceutical R&D outsourcing stakeholders. We are pleased to support the community and to share why Dipharma is the right manufacturing partner for your small molecule. \nWe are ready to support you in the journey\, no matter the development stage (pre-clinical to market) and the manufacturing scale (grams to tons). Our tailor-made solutions will enable you to improve the value of your drug and to accelerate its time to market. \nPlease join the event and connect with us: https://www.bio2bevents.com/virtual/company.php?showid=66 \n  \n \n  \nFeel free to schedule a meeting at the show or
URL:http://www.dipharma.com/event/bos-rd-outsourcing-2021/
LOCATION:Virtual Event\, Virtual Event
CATEGORIES:Event
END:VEVENT
BEGIN:VEVENT
DTSTART;VALUE=DATE:20210517
DTEND;VALUE=DATE:20210519
DTSTAMP:20260422T224519
CREATED:20210507T000050Z
LAST-MODIFIED:20210517T085419Z
UID:2574-1621209600-1621382399@www.dipharma.com
SUMMARY:Pharma Manufacturing World Summit 2021
DESCRIPTION:Dipharma Group will be exhibiting virtually at the PMW21 – Pharma Manufacturing World Summit 2021\, to be held on May 17 – 18\, 2021.  Book a meeting and visit us at our virtual booth https://pharmamanworld.com \n \nWe are pleased to share how Dipharma can help with process optimization of your APIs/ADV INTs/KSMs no matter the scale (grams to tons\, medchem\, PR&D\, pilot\, or commercial) or requirement (non-GMP vs GMP).  With sites in USA & Italy\, we are ready to provide tailor-made solutions for you\, that will include all the required analytical and regulatory support\, which is one of many strengths at Dipharma (FDA approved since 1970)\, including high energy expertise (azides\, tetrazoles\, high pressure hydrogenation\, etc). \nFeel free to schedule a meeting at the show or
URL:http://www.dipharma.com/event/pharma-manufacturing-world-summit-2021/
LOCATION:Virtual Event\, Virtual Event
CATEGORIES:Event
END:VEVENT
END:VCALENDAR