BEGIN:VCALENDAR
VERSION:2.0
PRODID:-//Dipharma - ECPv6.6.0.1//NONSGML v1.0//EN
CALSCALE:GREGORIAN
METHOD:PUBLISH
X-WR-CALNAME:Dipharma
X-ORIGINAL-URL:http://www.dipharma.com
X-WR-CALDESC:Events for Dipharma
REFRESH-INTERVAL;VALUE=DURATION:PT1H
X-Robots-Tag:noindex
X-PUBLISHED-TTL:PT1H
BEGIN:VTIMEZONE
TZID:America/New_York
BEGIN:DAYLIGHT
TZOFFSETFROM:-0500
TZOFFSETTO:-0400
TZNAME:EDT
DTSTART:20250309T070000
END:DAYLIGHT
BEGIN:STANDARD
TZOFFSETFROM:-0400
TZOFFSETTO:-0500
TZNAME:EST
DTSTART:20251102T060000
END:STANDARD
TZID:America/Chicago
BEGIN:DAYLIGHT
TZOFFSETFROM:-0600
TZOFFSETTO:-0500
TZNAME:CDT
DTSTART:20250309T080000
END:DAYLIGHT
BEGIN:STANDARD
TZOFFSETFROM:-0500
TZOFFSETTO:-0600
TZNAME:CST
DTSTART:20251102T070000
END:STANDARD
END:VTIMEZONE
BEGIN:VEVENT
DTSTART;VALUE=DATE:20250409
DTEND;VALUE=DATE:20250412
DTSTAMP:20260419T200552
CREATED:20250212T111435Z
LAST-MODIFIED:20250318T171119Z
UID:4443-1744156800-1744415999@www.dipharma.com
SUMMARY:CPHI Japan 2025
DESCRIPTION:Location: Tokyo Big Sight\, Tokyo\, Japan \nDipharma Group team will be exhibiting at CPHI Japan 2025\,  booth N. IT-20 (Italia Pavilion)\, from April 09-11. \nTo book a meeting\, please contact us at japan@dipharma.com \nFor more information\, follow the link: https://www.cphi.com/japan/en/home.html 
URL:http://www.dipharma.com/event/cphi-japan-2025/
LOCATION:Japan\, Tokyo\, Japan
CATEGORIES:Event
END:VEVENT
BEGIN:VEVENT
DTSTART;VALUE=DATE:20250425
DTEND;VALUE=DATE:20250426
DTSTAMP:20260419T200552
CREATED:20250212T182822Z
LAST-MODIFIED:20250408T094624Z
UID:4453-1745539200-1745625599@www.dipharma.com
SUMMARY:2025 13th NESACS Annual Advances in Chemical Sciences Symposium
DESCRIPTION:Location: Bristol Myers Squibb\, 250 Water St\, Cambridge\, MA 02141\, US \nDipharma is pleased to sponsor and exhibit at the 13th NESACS Annual Advances in Chemical Sciences Symposium\, scheduled for Friday\, April 25th\, 2025. \nDuring the symposium\, we will be available to engage in discussions with you. Our comprehensive CDMO services are designed to address any challenges related to your small molecules\, from early discovery through commercialization. We look forward to meeting you there! \nTo book a meeting\, please contact us at: northamerica@dipharma.com \nFor more information\, follow the link: https://nemedchem.org/conference/
URL:http://www.dipharma.com/event/13th-nesacs-annual-advances-in-chemical-sciences-symposium/
LOCATION:Cambridge MA 02141\, 250 Water St\,\, Cambridge\, 02141\, United States
CATEGORIES:Event
END:VEVENT
END:VCALENDAR